BEGIN:VCALENDAR
VERSION:2.0
PRODID:-//Marpole NH - ECPv6.15.11//NONSGML v1.0//EN
CALSCALE:GREGORIAN
METHOD:PUBLISH
X-WR-CALNAME:Marpole NH
X-ORIGINAL-URL:https://marpolenh.org
X-WR-CALDESC:Events for Marpole NH
REFRESH-INTERVAL;VALUE=DURATION:PT1H
X-Robots-Tag:noindex
X-PUBLISHED-TTL:PT1H
BEGIN:VTIMEZONE
TZID:UTC
BEGIN:STANDARD
TZOFFSETFROM:+0000
TZOFFSETTO:+0000
TZNAME:UTC
DTSTART:20250101T000000
END:STANDARD
END:VTIMEZONE
BEGIN:VEVENT
DTSTART;TZID=UTC:20260422T103000
DTEND;TZID=UTC:20260422T113000
DTSTAMP:20260422T093645
CREATED:20251011T031658Z
LAST-MODIFIED:20251011T031718Z
UID:10003737-1776853800-1776857400@marpolenh.org
SUMMARY:Chair Yoga With Laughter
DESCRIPTION:Join us for chair yoga\, a relaxing form that is more accessible for seniors. \nFacilitated by Balbir \nDrop in fee: $5
URL:https://marpolenh.org/event/chair-yoga-with-laughter/2026-04-22/
END:VEVENT
BEGIN:VEVENT
DTSTART;TZID=UTC:20260422T120000
DTEND;TZID=UTC:20260422T133000
DTSTAMP:20260422T093645
CREATED:20251011T030852Z
LAST-MODIFIED:20251011T030852Z
UID:10002392-1776859200-1776864600@marpolenh.org
SUMMARY:Knitting & Crocheting
DESCRIPTION:Learn how to knit or crochet\, all skill levels are welcome. Materials are provided.
URL:https://marpolenh.org/event/knitting-crocheting-3/2026-04-22/
END:VEVENT
BEGIN:VEVENT
DTSTART;TZID=UTC:20260422T130000
DTEND;TZID=UTC:20260422T140000
DTSTAMP:20260422T093645
CREATED:20251011T030337Z
LAST-MODIFIED:20251011T030337Z
UID:10001082-1776862800-1776866400@marpolenh.org
SUMMARY:Yoga with Sophia
DESCRIPTION:Take a moment to relax\, stretch and move your body in a welcoming space. Open to all levels.  \nFee: $5
URL:https://marpolenh.org/event/yoga-with-sophia/2026-04-22/
END:VEVENT
END:VCALENDAR