BEGIN:VCALENDAR
VERSION:2.0
PRODID:-//Marpole NH - ECPv6.15.11//NONSGML v1.0//EN
CALSCALE:GREGORIAN
METHOD:PUBLISH
X-WR-CALNAME:Marpole NH
X-ORIGINAL-URL:https://marpolenh.org
X-WR-CALDESC:Events for Marpole NH
REFRESH-INTERVAL;VALUE=DURATION:PT1H
X-Robots-Tag:noindex
X-PUBLISHED-TTL:PT1H
BEGIN:VTIMEZONE
TZID:UTC
BEGIN:STANDARD
TZOFFSETFROM:+0000
TZOFFSETTO:+0000
TZNAME:UTC
DTSTART:20250101T000000
END:STANDARD
END:VTIMEZONE
BEGIN:VEVENT
DTSTART;TZID=UTC:20260423T100000
DTEND;TZID=UTC:20260423T110000
DTSTAMP:20260423T141057
CREATED:20251011T031106Z
LAST-MODIFIED:20251011T031106Z
UID:10002916-1776938400-1776942000@marpolenh.org
SUMMARY:English Conversational Group
DESCRIPTION:Come and practice English with others in the community. Share stories and culture\, and learn about resources and services.  \nContact our Settlement Worker Nayeli Gonzalez at nayeli.gonzalez@marpolenh.org.
URL:https://marpolenh.org/event/english-conversational-group/2026-04-23/
END:VEVENT
BEGIN:VEVENT
DTSTART;TZID=UTC:20260423T110000
DTEND;TZID=UTC:20260423T130000
DTSTAMP:20260423T141057
CREATED:20251011T030539Z
LAST-MODIFIED:20251011T030539Z
UID:10001606-1776942000-1776949200@marpolenh.org
SUMMARY:Gathering Gardeners
DESCRIPTION:Come and meet others in the neighbourhood who enjoy gardening and share the love of growing plants and food.
URL:https://marpolenh.org/event/gatheringgardeners/2026-04-23/
END:VEVENT
BEGIN:VEVENT
DTSTART;TZID=UTC:20260423T150000
DTEND;TZID=UTC:20260423T170000
DTSTAMP:20260423T141057
CREATED:20251011T025805Z
LAST-MODIFIED:20251011T025805Z
UID:10000034-1776956400-1776963600@marpolenh.org
SUMMARY:MNH After-School Program
DESCRIPTION:This program is for elementary school children to play\, learn\, and connect with friends!  \nTo register\, contact: diljaan.gill@marpolenh.org
URL:https://marpolenh.org/event/after-school-program/2026-04-23/
END:VEVENT
END:VCALENDAR